BEGIN:VCALENDAR
VERSION:2.0
PRODID:-//hacksw/handcal//NONSGML v1.0//EN
BEGIN:VEVENT
SUMMARY:Sortie la Rotonde
UID:706107a5-3159-4cc5-8dd2-c7cecf53fdaf
DTSTART:20260428T063000Z
DTEND:20260428T103000Z
LOCATION:Localisation saint vulbas 01150 Saint-Vulbas
CATEGORIES:Sportif
STATUS:
URL;VALUE=URI:https://asegfbugey.sportsregions.fr/evenements/2026/04/28/sortie-la-rotonde-2441188
END:VEVENT
END:VCALENDAR
